Workbook

Sheet FINAL PAY
C4: ANNUAL ALLOWANCE - FINAL PAY
C5: Please enter the Full time final pay for the relevant year.
C7: Name:
C9: Post Number:
C11: Employer: | J11: =IF((I20+L20)>1,DATEDIF(D20,E20,"M")-1) -> -1
C13: National Insurance Number:
C15: Does the member have an AVC? | E15: No
C17: BEST OF THE LAST THREE YEARS MUST ALWAYS APPLY - SEE GUIDANCE NOTES
C18: FINAL PAY | G18: 2026
C19: FULLTIME ANNUAL SALARY | D19: FROM | E19: TO | F19: NUMBER OF MONTHS | G19: £ P
C20: 0 | F20: =IF(I20=32/31,0,SUM(J20,I20,L20)) -> 0 | G20: =C20/12*F20 -> 0 | I20: =IF(M20=N20,M20-N20,IF(M20<>N20,M20/N20)) -> 1.0322581 | J20: =IF((I20+L20)>1,DATEDIF(D20,E20,"M")-1,DATEDIF(D20,E20,"m")) -> -1 | L20: =IF(O20=P20,O20-P20,IF(O20<>P20,(P20-O20)/P20)) -> 0 | M20: =((DATE(YEAR(D20),MONTH(D20)+1,1)-1)-D20+1) -> 32 | N20: =+DAY(DATE(YEAR(D20),MONTH(D20)+1,0)) -> 31 | O20: =IF(Q20=29,((DATE(YEAR(E20),MONTH(E20)+1,1)-1)-E20),((DATE(YEAR(E20),MONTH(E20)+1,1)-1)-E20)) -> 31 | P20: =IF(Q20=29,28,Q20) -> 31 | Q20: =+DAY(DATE(YEAR(E20),MONTH(E20)+1,0)) -> 31 | R20: =SUM(DATEDIF(D20,E20,"D"),1) -> 1 | U20: =IF(OR(D20="",E20=""),"",INT(D20-E20+1))
C21: 0 | F21: =IF(I21=32/31,0,SUM(J21,I21,L21)) -> 0 | G21: =C21/12*F21 -> 0 | I21: =IF(M21=N21,M21-N21,IF(M21<>N21,M21/N21)) -> 1.0322581 | J21: =IF((I21+L21)>1,DATEDIF(D21,E21,"M")-1,DATEDIF(D21,E21,"m")) -> -1 | L21: =IF(O21=P21,O21-P21,IF(O21<>P21,(P21-O21)/P21)) -> 0 | M21: =((DATE(YEAR(D21),MONTH(D21)+1,1)-1)-D21+1) -> 32 | N21: =+DAY(DATE(YEAR(D21),MONTH(D21)+1,0)) -> 31 | O21: =IF(Q21=29,((DATE(YEAR(E21),MONTH(E21)+1,1)-1)-E21),((DATE(YEAR(E21),MONTH(E21)+1,1)-1)-E21)) -> 31 | P21: =IF(Q21=29,28,Q21) -> 31 | Q21: =+DAY(DATE(YEAR(E21),MONTH(E21)+1,0)) -> 31 | R21: =SUM(DATEDIF(D21,E21,"D"),1) -> 1 | U21: =IF(OR(D21="",E21=""),"",INT(D21-E21+1))
C22: 0 | F22: =IF(I22=32/31,0,SUM(J22,I22,L22)) -> 0 | G22: =C22/12*F22 -> 0 | I22: =IF(M22=N22,M22-N22,IF(M22<>N22,M22/N22)) -> 1.0322581 | J22: =IF((I22+L22)>1,DATEDIF(D22,E22,"M")-1,DATEDIF(D22,E22,"m")) -> -1 | L22: =IF(O22=P22,O22-P22,IF(O22<>P22,(P22-O22)/P22)) -> 0 | M22: =((DATE(YEAR(D22),MONTH(D22)+1,1)-1)-D22+1) -> 32 | N22: =+DAY(DATE(YEAR(D22),MONTH(D22)+1,0)) -> 31 | O22: =IF(Q22=29,((DATE(YEAR(E22),MONTH(E22)+1,1)-1)-E22),((DATE(YEAR(E22),MONTH(E22)+1,1)-1)-E22)) -> 31 | P22: =IF(Q22=29,28,Q22) -> 31 | Q22: =+DAY(DATE(YEAR(E22),MONTH(E22)+1,0)) -> 31 | R22: =SUM(DATEDIF(D22,E22,"D"),1) -> 1 | U22: =IF(OR(D22="",E22=""),"",INT(D22-E22+1))
C23: 0 | F23: =IF(I23=32/31,0,SUM(J23,I23,L23)) -> 0 | G23: =C23/12*F23 -> 0 | I23: =IF(M23=N23,M23-N23,IF(M23<>N23,M23/N23)) -> 1.0322581 | J23: =IF((I23+L23)>1,DATEDIF(D23,E23,"M")-1,DATEDIF(D23,E23,"m")) -> -1 | L23: =IF(O23=P23,O23-P23,IF(O23<>P23,(P23-O23)/P23)) -> 0 | M23: =((DATE(YEAR(D23),MONTH(D23)+1,1)-1)-D23+1) -> 32 | N23: =+DAY(DATE(YEAR(D23),MONTH(D23)+1,0)) -> 31 | O23: =IF(Q23=29,((DATE(YEAR(E23),MONTH(E23)+1,1)-1)-E23),((DATE(YEAR(E23),MONTH(E23)+1,1)-1)-E23)) -> 31 | P23: =IF(Q23=29,28,Q23) -> 31 | Q23: =+DAY(DATE(YEAR(E23),MONTH(E23)+1,0)) -> 31 | R23: =SUM(DATEDIF(D23,E23,"D"),1) -> 1 | U23: =IF(OR(D23="",E23=""),"",INT(D23-E23+1))
C24: 0 | F24: =IF(I24=32/31,0,SUM(J24,I24,L24)) -> 0 | G24: =C24/12*F24 -> 0 | I24: =IF(M24=N24,M24-N24,IF(M24<>N24,M24/N24)) -> 1.0322581 | J24: =IF((I24+L24)>1,DATEDIF(D24,E24,"M")-1,DATEDIF(D24,E24,"m")) -> -1 | L24: =IF(O24=P24,O24-P24,IF(O24<>P24,(P24-O24)/P24)) -> 0 | M24: =((DATE(YEAR(D24),MONTH(D24)+1,1)-1)-D24+1) -> 32 | N24: =+DAY(DATE(YEAR(D24),MONTH(D24)+1,0)) -> 31 | O24: =IF(Q24=29,((DATE(YEAR(E24),MONTH(E24)+1,1)-1)-E24),((DATE(YEAR(E24),MONTH(E24)+1,1)-1)-E24)) -> 31 | P24: =IF(Q24=29,28,Q24) -> 31 | Q24: =+DAY(DATE(YEAR(E24),MONTH(E24)+1,0)) -> 31 | R24: =SUM(DATEDIF(D24,E24,"D"),1) -> 1 | U24: =IF(OR(D24="",E24=""),"",INT(D24-E24+1))
C25: 0 | F25: =IF(I25=32/31,0,SUM(J25,I25,L25)) -> 0 | G25: =C25/12*F25 -> 0 | I25: =IF(M25=N25,M25-N25,IF(M25<>N25,M25/N25)) -> 1.0322581 | J25: =IF((I25+L25)>1,DATEDIF(D25,E25,"M")-1,DATEDIF(D25,E25,"m")) -> -1 | L25: =IF(O25=P25,O25-P25,IF(O25<>P25,(P25-O25)/P25)) -> 0 | M25: =((DATE(YEAR(D25),MONTH(D25)+1,1)-1)-D25+1) -> 32 | N25: =+DAY(DATE(YEAR(D25),MONTH(D25)+1,0)) -> 31 | O25: =IF(Q25=29,((DATE(YEAR(E25),MONTH(E25)+1,1)-1)-E25),((DATE(YEAR(E25),MONTH(E25)+1,1)-1)-E25)) -> 31 | P25: =IF(Q25=29,28,Q25) -> 31 | Q25: =+DAY(DATE(YEAR(E25),MONTH(E25)+1,0)) -> 31 | R25: =SUM(DATEDIF(D25,E25,"D"),1) -> 1 | U25: =IF(OR(D25="",E25=""),"",INT(D25-E25+1))
E26: TOTAL | F26: =SUM(F20:F25) -> 0 | G26: =SUM(G20:G25) -> 0
I27: =IF((H27+K27)>1.04,DATEDIF(#REF!,D27,"M")-1,DATEDIF(#REF!,D27,"M")) -> #REF! | M27: =+DAY(DATE(YEAR(#REF!),MONTH(#REF!)+1,0)) -> #REF! | N27: =IF(P27=29,((DATE(YEAR(D27),MONTH(D27)+1,1)-1)-D27)-1,((DATE(YEAR(D27),MONTH(D27)+1,1)-1)-D27)) -> 31 | O27: =IF(P27=29,28,P27) -> 31 | P27: =+DAY(DATE(YEAR(D27),MONTH(D27)+1,0)) -> 31 | W27: =IF(OR(D21="",C21=""),"",INT(D21-C21+1))
C29: EXTRAS | D29: AMOUNT | F29: TOTAL FINAL PAY 2025/26 | G29: =G26+D33 -> 0
D33: =SUM(D30:D32) -> 0
C36: FINAL PAY | G36: 2025
C37: FULLTIME ANNUAL SALARY | D37: FROM | E37: TO | F37: NUMBER OF MONTHS | G37: £ P
C38: 0 | F38: =IF(I38=32/31,0,SUM(J38,I38,L38)) -> 0 | G38: =C38/12*F38 -> 0 | I38: =IF(M38=N38,M38-N38,IF(M38<>N38,M38/N38)) -> 1.0322581 | J38: =IF((I38+L38)>1,DATEDIF(D38,E38,"M")-1,DATEDIF(D38,E38,"m")) -> -1 | L38: =IF(O38=P38,O38-P38,IF(O38<>P38,(P38-O38)/P38)) -> 0 | M38: =((DATE(YEAR(D38),MONTH(D38)+1,1)-1)-D38+1) -> 32 | N38: =+DAY(DATE(YEAR(D38),MONTH(D38)+1,0)) -> 31 | O38: =IF(Q38=29,((DATE(YEAR(E38),MONTH(E38)+1,1)-1)-E38),((DATE(YEAR(E38),MONTH(E38)+1,1)-1)-E38)) -> 31 | P38: =IF(Q38=29,28,Q38) -> 31 | Q38: =+DAY(DATE(YEAR(E38),MONTH(E38)+1,0)) -> 31 | R38: =SUM(DATEDIF(D38,E38,"D"),1) -> 1 | U38: =IF(OR(D38="",E38=""),"",INT(D38-E38+1))
C39: 0 | F39: =IF(I39=32/31,0,SUM(J39,I39,L39)) -> 0 | G39: =C39/12*F39 -> 0 | I39: =IF(M39=N39,M39-N39,IF(M39<>N39,M39/N39)) -> 1.0322581 | J39: =IF((I39+L39)>1,DATEDIF(D39,E39,"M")-1,DATEDIF(D39,E39,"m")) -> -1 | L39: =IF(O39=P39,O39-P39,IF(O39<>P39,(P39-O39)/P39)) -> 0 | M39: =((DATE(YEAR(D39),MONTH(D39)+1,1)-1)-D39+1) -> 32 | N39: =+DAY(DATE(YEAR(D39),MONTH(D39)+1,0)) -> 31 | O39: =IF(Q39=29,((DATE(YEAR(E39),MONTH(E39)+1,1)-1)-E39),((DATE(YEAR(E39),MONTH(E39)+1,1)-1)-E39)) -> 31 | P39: =IF(Q39=29,28,Q39) -> 31 | Q39: =+DAY(DATE(YEAR(E39),MONTH(E39)+1,0)) -> 31 | R39: =SUM(DATEDIF(D39,E39,"D"),1) -> 1 | U39: =IF(OR(D39="",E39=""),"",INT(D39-E39+1))
C40: 0 | F40: =IF(I40=32/31,0,SUM(J40,I40,L40)) -> 0 | G40: =C40/12*F40 -> 0 | I40: =IF(M40=N40,M40-N40,IF(M40<>N40,M40/N40)) -> 1.0322581 | J40: =IF((I40+L40)>1,DATEDIF(D40,E40,"M")-1,DATEDIF(D40,E40,"m")) -> -1 | L40: =IF(O40=P40,O40-P40,IF(O40<>P40,(P40-O40)/P40)) -> 0 | M40: =((DATE(YEAR(D40),MONTH(D40)+1,1)-1)-D40+1) -> 32 | N40: =+DAY(DATE(YEAR(D40),MONTH(D40)+1,0)) -> 31 | O40: =IF(Q40=29,((DATE(YEAR(E40),MONTH(E40)+1,1)-1)-E40),((DATE(YEAR(E40),MONTH(E40)+1,1)-1)-E40)) -> 31 | P40: =IF(Q40=29,28,Q40) -> 31 | Q40: =+DAY(DATE(YEAR(E40),MONTH(E40)+1,0)) -> 31 | R40: =SUM(DATEDIF(D40,E40,"D"),1) -> 1 | U40: =IF(OR(D40="",E40=""),"",INT(D40-E40+1))
C41: 0 | F41: =IF(I41=32/31,0,SUM(J41,I41,L41)) -> 0 | G41: =C41/12*F41 -> 0 | I41: =IF(M41=N41,M41-N41,IF(M41<>N41,M41/N41)) -> 1.0322581 | J41: =IF((I41+L41)>1,DATEDIF(D41,E41,"M")-1,DATEDIF(D41,E41,"m")) -> -1 | L41: =IF(O41=P41,O41-P41,IF(O41<>P41,(P41-O41)/P41)) -> 0 | M41: =((DATE(YEAR(D41),MONTH(D41)+1,1)-1)-D41+1) -> 32 | N41: =+DAY(DATE(YEAR(D41),MONTH(D41)+1,0)) -> 31 | O41: =IF(Q41=29,((DATE(YEAR(E41),MONTH(E41)+1,1)-1)-E41),((DATE(YEAR(E41),MONTH(E41)+1,1)-1)-E41)) -> 31 | P41: =IF(Q41=29,28,Q41) -> 31 | Q41: =+DAY(DATE(YEAR(E41),MONTH(E41)+1,0)) -> 31 | R41: =SUM(DATEDIF(D41,E41,"D"),1) -> 1 | U41: =IF(OR(D41="",E41=""),"",INT(D41-E41+1))
C42: 0 | F42: =IF(I42=32/31,0,SUM(J42,I42,L42)) -> 0 | G42: =C42/12*F42 -> 0 | I42: =IF(M42=N42,M42-N42,IF(M42<>N42,M42/N42)) -> 1.0322581 | J42: =IF((I42+L42)>1,DATEDIF(D42,E42,"M")-1,DATEDIF(D42,E42,"m")) -> -1 | L42: =IF(O42=P42,O42-P42,IF(O42<>P42,(P42-O42)/P42)) -> 0 | M42: =((DATE(YEAR(D42),MONTH(D42)+1,1)-1)-D42+1) -> 32 | N42: =+DAY(DATE(YEAR(D42),MONTH(D42)+1,0)) -> 31 | O42: =IF(Q42=29,((DATE(YEAR(E42),MONTH(E42)+1,1)-1)-E42),((DATE(YEAR(E42),MONTH(E42)+1,1)-1)-E42)) -> 31 | P42: =IF(Q42=29,28,Q42) -> 31 | Q42: =+DAY(DATE(YEAR(E42),MONTH(E42)+1,0)) -> 31 | R42: =SUM(DATEDIF(D42,E42,"D"),1) -> 1 | U42: =IF(OR(D42="",E42=""),"",INT(D42-E42+1))
C43: 0 | F43: =IF(I43=32/31,0,SUM(J43,I43,L43)) -> 0 | G43: =C43/12*F43 -> 0 | I43: =IF(M43=N43,M43-N43,IF(M43<>N43,M43/N43)) -> 1.0322581 | J43: =IF((I43+L43)>1,DATEDIF(D43,E43,"M")-1,DATEDIF(D43,E43,"m")) -> -1 | L43: =IF(O43=P43,O43-P43,IF(O43<>P43,(P43-O43)/P43)) -> 0 | M43: =((DATE(YEAR(D43),MONTH(D43)+1,1)-1)-D43+1) -> 32 | N43: =+DAY(DATE(YEAR(D43),MONTH(D43)+1,0)) -> 31 | O43: =IF(Q43=29,((DATE(YEAR(E43),MONTH(E43)+1,1)-1)-E43),((DATE(YEAR(E43),MONTH(E43)+1,1)-1)-E43)) -> 31 | P43: =IF(Q43=29,28,Q43) -> 31 | Q43: =+DAY(DATE(YEAR(E43),MONTH(E43)+1,0)) -> 31 | R43: =SUM(DATEDIF(D43,E43,"D"),1) -> 1 | U43: =IF(OR(D43="",E43=""),"",INT(D43-E43+1))
E44: TOTAL | F44: =SUM(F38:F43) -> 0 | G44: =SUM(G38:G43) -> 0
C47: EXTRAS | D47: AMOUNT | F47: TOTAL FINAL PAY 2024/25 | G47: =G44+D51 -> 0
D51: =SUM(D48:D50) -> 0
C54: FINAL PAY | G54: 2024
C55: FULLTIME ANNUAL SALARY | D55: FROM | E55: TO | F55: NUMBER OF MONTHS | G55: £ P
C56: 0 | F56: =IF(I56=32/31,0,SUM(J56,I56,L56)) -> 0 | G56: =C56/12*F56 -> 0 | I56: =IF(M56=N56,M56-N56,IF(M56<>N56,M56/N56)) -> 1.0322581 | J56: =IF((I56+L56)>1,DATEDIF(D56,E56,"M")-1,DATEDIF(D56,E56,"m")) -> -1 | L56: =IF(O56=P56,O56-P56,IF(O56<>P56,(P56-O56)/P56)) -> 0 | M56: =((DATE(YEAR(D56),MONTH(D56)+1,1)-1)-D56+1) -> 32 | N56: =+DAY(DATE(YEAR(D56),MONTH(D56)+1,0)) -> 31 | O56: =IF(Q56=29,((DATE(YEAR(E56),MONTH(E56)+1,1)-1)-E56),((DATE(YEAR(E56),MONTH(E56)+1,1)-1)-E56)) -> 31 | P56: =IF(Q56=29,28,Q56) -> 31 | Q56: =+DAY(DATE(YEAR(E56),MONTH(E56)+1,0)) -> 31 | R56: =SUM(DATEDIF(D56,E56,"D"),1) -> 1 | U56: =IF(OR(D56="",E56=""),"",INT(D56-E56+1))
C57: 0 | F57: =IF(I57=32/31,0,SUM(J57,I57,L57)) -> 0 | G57: =C57/12*F57 -> 0 | I57: =IF(M57=N57,M57-N57,IF(M57<>N57,M57/N57)) -> 1.0322581 | J57: =IF((I57+L57)>1,DATEDIF(D57,E57,"M")-1,DATEDIF(D57,E57,"m")) -> -1 | L57: =IF(O57=P57,O57-P57,IF(O57<>P57,(P57-O57)/P57)) -> 0 | M57: =((DATE(YEAR(D57),MONTH(D57)+1,1)-1)-D57+1) -> 32 | N57: =+DAY(DATE(YEAR(D57),MONTH(D57)+1,0)) -> 31 | O57: =IF(Q57=29,((DATE(YEAR(E57),MONTH(E57)+1,1)-1)-E57),((DATE(YEAR(E57),MONTH(E57)+1,1)-1)-E57)) -> 31 | P57: =IF(Q57=29,28,Q57) -> 31 | Q57: =+DAY(DATE(YEAR(E57),MONTH(E57)+1,0)) -> 31 | R57: =SUM(DATEDIF(D57,E57,"D"),1) -> 1 | U57: =IF(OR(D57="",E57=""),"",INT(D57-E57+1))
C58: 0 | F58: =IF(I58=32/31,0,SUM(J58,I58,L58)) -> 0 | G58: =C58/12*F58 -> 0 | I58: =IF(M58=N58,M58-N58,IF(M58<>N58,M58/N58)) -> 1.0322581 | J58: =IF((I58+L58)>1,DATEDIF(D58,E58,"M")-1,DATEDIF(D58,E58,"m")) -> -1 | L58: =IF(O58=P58,O58-P58,IF(O58<>P58,(P58-O58)/P58)) -> 0 | M58: =((DATE(YEAR(D58),MONTH(D58)+1,1)-1)-D58+1) -> 32 | N58: =+DAY(DATE(YEAR(D58),MONTH(D58)+1,0)) -> 31 | O58: =IF(Q58=29,((DATE(YEAR(E58),MONTH(E58)+1,1)-1)-E58),((DATE(YEAR(E58),MONTH(E58)+1,1)-1)-E58)) -> 31 | P58: =IF(Q58=29,28,Q58) -> 31 | Q58: =+DAY(DATE(YEAR(E58),MONTH(E58)+1,0)) -> 31 | R58: =SUM(DATEDIF(D58,E58,"D"),1) -> 1 | U58: =IF(OR(D58="",E58=""),"",INT(D58-E58+1))
C59: 0 | F59: =IF(I59=32/31,0,SUM(J59,I59,L59)) -> 0 | G59: =C59/12*F59 -> 0 | I59: =IF(M59=N59,M59-N59,IF(M59<>N59,M59/N59)) -> 1.0322581 | J59: =IF((I59+L59)>1,DATEDIF(D59,E59,"M")-1,DATEDIF(D59,E59,"m")) -> -1 | L59: =IF(O59=P59,O59-P59,IF(O59<>P59,(P59-O59)/P59)) -> 0 | M59: =((DATE(YEAR(D59),MONTH(D59)+1,1)-1)-D59+1) -> 32 | N59: =+DAY(DATE(YEAR(D59),MONTH(D59)+1,0)) -> 31 | O59: =IF(Q59=29,((DATE(YEAR(E59),MONTH(E59)+1,1)-1)-E59),((DATE(YEAR(E59),MONTH(E59)+1,1)-1)-E59)) -> 31 | P59: =IF(Q59=29,28,Q59) -> 31 | Q59: =+DAY(DATE(YEAR(E59),MONTH(E59)+1,0)) -> 31 | R59: =SUM(DATEDIF(D59,E59,"D"),1) -> 1 | U59: =IF(OR(D59="",E59=""),"",INT(D59-E59+1))
C60: 0 | F60: =IF(I60=32/31,0,SUM(J60,I60,L60)) -> 0 | G60: =C60/12*F60 -> 0 | I60: =IF(M60=N60,M60-N60,IF(M60<>N60,M60/N60)) -> 1.0322581 | J60: =IF((I60+L60)>1,DATEDIF(D60,E60,"M")-1,DATEDIF(D60,E60,"m")) -> -1 | L60: =IF(O60=P60,O60-P60,IF(O60<>P60,(P60-O60)/P60)) -> 0 | M60: =((DATE(YEAR(D60),MONTH(D60)+1,1)-1)-D60+1) -> 32 | N60: =+DAY(DATE(YEAR(D60),MONTH(D60)+1,0)) -> 31 | O60: =IF(Q60=29,((DATE(YEAR(E60),MONTH(E60)+1,1)-1)-E60),((DATE(YEAR(E60),MONTH(E60)+1,1)-1)-E60)) -> 31 | P60: =IF(Q60=29,28,Q60) -> 31 | Q60: =+DAY(DATE(YEAR(E60),MONTH(E60)+1,0)) -> 31 | R60: =SUM(DATEDIF(D60,E60,"D"),1) -> 1 | U60: =IF(OR(D60="",E60=""),"",INT(D60-E60+1))
C61: 0 | F61: =IF(I61=32/31,0,SUM(J61,I61,L61)) -> 0 | G61: =C61/12*F61 -> 0 | I61: =IF(M61=N61,M61-N61,IF(M61<>N61,M61/N61)) -> 1.0322581 | J61: =IF((I61+L61)>1,DATEDIF(D61,E61,"M")-1,DATEDIF(D61,E61,"m")) -> -1 | L61: =IF(O61=P61,O61-P61,IF(O61<>P61,(P61-O61)/P61)) -> 0 | M61: =((DATE(YEAR(D61),MONTH(D61)+1,1)-1)-D61+1) -> 32 | N61: =+DAY(DATE(YEAR(D61),MONTH(D61)+1,0)) -> 31 | O61: =IF(Q61=29,((DATE(YEAR(E61),MONTH(E61)+1,1)-1)-E61),((DATE(YEAR(E61),MONTH(E61)+1,1)-1)-E61)) -> 31 | P61: =IF(Q61=29,28,Q61) -> 31 | Q61: =+DAY(DATE(YEAR(E61),MONTH(E61)+1,0)) -> 31 | R61: =SUM(DATEDIF(D61,E61,"D"),1) -> 1 | U61: =IF(OR(D61="",E61=""),"",INT(D61-E61+1))
E62: TOTAL | F62: =SUM(F56:F61) -> 0 | G62: =SUM(G56:G61) -> 0
C65: EXTRAS | D65: AMOUNT | F65: TOTAL FINAL PAY 2023/24 | G65: =G62+D69 -> 0
D69: =SUM(D66:D68) -> 0
C72: FINAL PAY | G72: 2023
C73: FULLTIME ANNUAL SALARY | D73: FROM | E73: TO | F73: NUMBER OF MONTHS | G73: £ P
C74: 0 | F74: =IF(I74=32/31,0,SUM(J74,I74,L74)) -> 0 | G74: =C74/12*F74 -> 0 | I74: =IF(M74=N74,M74-N74,IF(M74<>N74,M74/N74)) -> 1.0322581 | J74: =IF((I74+L74)>1,DATEDIF(D74,E74,"M")-1,DATEDIF(D74,E74,"m")) -> -1 | L74: =IF(O74=P74,O74-P74,IF(O74<>P74,(P74-O74)/P74)) -> 0 | M74: =((DATE(YEAR(D74),MONTH(D74)+1,1)-1)-D74+1) -> 32 | N74: =+DAY(DATE(YEAR(D74),MONTH(D74)+1,0)) -> 31 | O74: =IF(Q74=29,((DATE(YEAR(E74),MONTH(E74)+1,1)-1)-E74),((DATE(YEAR(E74),MONTH(E74)+1,1)-1)-E74)) -> 31 | P74: =IF(Q74=29,28,Q74) -> 31 | Q74: =+DAY(DATE(YEAR(E74),MONTH(E74)+1,0)) -> 31 | R74: =SUM(DATEDIF(D74,E74,"D"),1) -> 1 | U74: =IF(OR(D74="",E74=""),"",INT(D74-E74+1))
C75: 0 | F75: =IF(I75=32/31,0,SUM(J75,I75,L75)) -> 0 | G75: =C75/12*F75 -> 0 | I75: =IF(M75=N75,M75-N75,IF(M75<>N75,M75/N75)) -> 1.0322581 | J75: =IF((I75+L75)>1,DATEDIF(D75,E75,"M")-1,DATEDIF(D75,E75,"m")) -> -1 | L75: =IF(O75=P75,O75-P75,IF(O75<>P75,(P75-O75)/P75)) -> 0 | M75: =((DATE(YEAR(D75),MONTH(D75)+1,1)-1)-D75+1) -> 32 | N75: =+DAY(DATE(YEAR(D75),MONTH(D75)+1,0)) -> 31 | O75: =IF(Q75=29,((DATE(YEAR(E75),MONTH(E75)+1,1)-1)-E75),((DATE(YEAR(E75),MONTH(E75)+1,1)-1)-E75)) -> 31 | P75: =IF(Q75=29,28,Q75) -> 31 | Q75: =+DAY(DATE(YEAR(E75),MONTH(E75)+1,0)) -> 31 | R75: =SUM(DATEDIF(D75,E75,"D"),1) -> 1 | U75: =IF(OR(D75="",E75=""),"",INT(D75-E75+1))
C76: 0 | F76: =IF(I76=32/31,0,SUM(J76,I76,L76)) -> 0 | G76: =C76/12*F76 -> 0 | I76: =IF(M76=N76,M76-N76,IF(M76<>N76,M76/N76)) -> 1.0322581 | J76: =IF((I76+L76)>1,DATEDIF(D76,E76,"M")-1,DATEDIF(D76,E76,"m")) -> -1 | L76: =IF(O76=P76,O76-P76,IF(O76<>P76,(P76-O76)/P76)) -> 0 | M76: =((DATE(YEAR(D76),MONTH(D76)+1,1)-1)-D76+1) -> 32 | N76: =+DAY(DATE(YEAR(D76),MONTH(D76)+1,0)) -> 31 | O76: =IF(Q76=29,((DATE(YEAR(E76),MONTH(E76)+1,1)-1)-E76),((DATE(YEAR(E76),MONTH(E76)+1,1)-1)-E76)) -> 31 | P76: =IF(Q76=29,28,Q76) -> 31 | Q76: =+DAY(DATE(YEAR(E76),MONTH(E76)+1,0)) -> 31 | R76: =SUM(DATEDIF(D76,E76,"D"),1) -> 1 | U76: =IF(OR(D76="",E76=""),"",INT(D76-E76+1))
C77: 0 | F77: =IF(I77=32/31,0,SUM(J77,I77,L77)) -> 0 | G77: =C77/12*F77 -> 0 | I77: =IF(M77=N77,M77-N77,IF(M77<>N77,M77/N77)) -> 1.0322581 | J77: =IF((I77+L77)>1,DATEDIF(D77,E77,"M")-1,DATEDIF(D77,E77,"m")) -> -1 | L77: =IF(O77=P77,O77-P77,IF(O77<>P77,(P77-O77)/P77)) -> 0 | M77: =((DATE(YEAR(D77),MONTH(D77)+1,1)-1)-D77+1) -> 32 | N77: =+DAY(DATE(YEAR(D77),MONTH(D77)+1,0)) -> 31 | O77: =IF(Q77=29,((DATE(YEAR(E77),MONTH(E77)+1,1)-1)-E77),((DATE(YEAR(E77),MONTH(E77)+1,1)-1)-E77)) -> 31 | P77: =IF(Q77=29,28,Q77) -> 31 | Q77: =+DAY(DATE(YEAR(E77),MONTH(E77)+1,0)) -> 31 | R77: =SUM(DATEDIF(D77,E77,"D"),1) -> 1 | U77: =IF(OR(D77="",E77=""),"",INT(D77-E77+1))
C78: 0 | F78: =IF(I78=32/31,0,SUM(J78,I78,L78)) -> 0 | G78: =C78/12*F78 -> 0 | I78: =IF(M78=N78,M78-N78,IF(M78<>N78,M78/N78)) -> 1.0322581 | J78: =IF((I78+L78)>1,DATEDIF(D78,E78,"M")-1,DATEDIF(D78,E78,"m")) -> -1 | L78: =IF(O78=P78,O78-P78,IF(O78<>P78,(P78-O78)/P78)) -> 0 | M78: =((DATE(YEAR(D78),MONTH(D78)+1,1)-1)-D78+1) -> 32 | N78: =+DAY(DATE(YEAR(D78),MONTH(D78)+1,0)) -> 31 | O78: =IF(Q78=29,((DATE(YEAR(E78),MONTH(E78)+1,1)-1)-E78),((DATE(YEAR(E78),MONTH(E78)+1,1)-1)-E78)) -> 31 | P78: =IF(Q78=29,28,Q78) -> 31 | Q78: =+DAY(DATE(YEAR(E78),MONTH(E78)+1,0)) -> 31 | R78: =SUM(DATEDIF(D78,E78,"D"),1) -> 1 | U78: =IF(OR(D78="",E78=""),"",INT(D78-E78+1))
C79: 0 | F79: =IF(I79=32/31,0,SUM(J79,I79,L79)) -> 0 | G79: =C79/12*F79 -> 0 | I79: =IF(M79=N79,M79-N79,IF(M79<>N79,M79/N79)) -> 1.0322581 | J79: =IF((I79+L79)>1,DATEDIF(D79,E79,"M")-1,DATEDIF(D79,E79,"m")) -> -1 | L79: =IF(O79=P79,O79-P79,IF(O79<>P79,(P79-O79)/P79)) -> 0 | M79: =((DATE(YEAR(D79),MONTH(D79)+1,1)-1)-D79+1) -> 32 | N79: =+DAY(DATE(YEAR(D79),MONTH(D79)+1,0)) -> 31 | O79: =IF(Q79=29,((DATE(YEAR(E79),MONTH(E79)+1,1)-1)-E79),((DATE(YEAR(E79),MONTH(E79)+1,1)-1)-E79)) -> 31 | P79: =IF(Q79=29,28,Q79) -> 31 | Q79: =+DAY(DATE(YEAR(E79),MONTH(E79)+1,0)) -> 31 | R79: =SUM(DATEDIF(D79,E79,"D"),1) -> 1 | U79: =IF(OR(D79="",E79=""),"",INT(D79-E79+1))
E80: TOTAL | F80: =SUM(F74:F79) -> 0 | G80: =SUM(G74:G79) -> 0
C83: EXTRAS | D83: AMOUNT | F83: TOTAL FINAL PAY 2022/23 | G83: =G80+D87 -> 0
D87: =SUM(D84:D86) -> 0
C91: Completed By:
C93: Job Title:
C95: Date:
C97: *** Please remember to complete the CARE PAY tab ***

Sheet Sheet1
A1: Yes
A2: No

Sheet CARE PAY
C3: ANNUAL ALLOWANCE - CARE PAY
C4: Please enter the CARE pay for the periods listed below.
C6: Name: | E6: ='FINAL PAY'!E7:H7 -> 0
C8: Post Number: | E8: ='FINAL PAY'!E9:H9 -> 0
C10: Employer: | E10: ='FINAL PAY'!E11:H11 -> 0
C12: National Insurance Number: | E12: ='FINAL PAY'!E13:H13 -> 0
C15: CARE PAY (PENSIONABLE PAY)
C16: ACTUAL CARE PAY FOR PERIOD | D16: FROM | E16: TO | F16: For DCPF Use Only
D17: 46113 | E17: 46142 | F17: =C17/30*5 -> 0 | I17: =IF(M17=N17,M17-N17,IF(M17<>N17,M17/N17)) -> 0 | J17: =IF((I17+L17)>1.04,DATEDIF(D17,E17,"M")-1,DATEDIF(D17,E17,"M")) -> 0 | L17: =IF(O17=P17,O17-P17,IF(O17<>P17,(P17-O17)/P17)) -> 1 | M17: =((DATE(YEAR(D17),MONTH(D17)+1,1)-1)-D17+1) -> 30 | N17: =+DAY(DATE(YEAR(D17),MONTH(D17)+1,0)) -> 30 | O17: =IF(Q17=29,((DATE(YEAR(E17),MONTH(E17)+1,1)-1)-E17)-1,((DATE(YEAR(E17),MONTH(E17)+1,1)-1)-E17)) -> 0 | P17: =IF(Q17=29,28,Q17) -> 30 | Q17: =+DAY(DATE(YEAR(E17),MONTH(E17)+1,0)) -> 30 | R17: =SUM(DATEDIF(D17,E17,"D"),1) -> 30 | U17: =IF(OR(D17="",E17=""),"",INT(D17-E17+1)) -> -28
D18: 45748 | E18: 46112 | F18: =C18 -> 0 | I18: =IF(M18=N18,M18-N18,IF(M18<>N18,M18/N18)) -> 0 | J18: =IF((I18+L18)>1.04,DATEDIF(D18,E18,"M")-1,DATEDIF(D18,E18,"M")) -> 11 | L18: =IF(O18=P18,O18-P18,IF(O18<>P18,(P18-O18)/P18)) -> 1 | M18: =((DATE(YEAR(D18),MONTH(D18)+1,1)-1)-D18+1) -> 30 | N18: =+DAY(DATE(YEAR(D18),MONTH(D18)+1,0)) -> 30 | O18: =IF(Q18=29,((DATE(YEAR(E18),MONTH(E18)+1,1)-1)-E18)-1,((DATE(YEAR(E18),MONTH(E18)+1,1)-1)-E18)) -> 0 | P18: =IF(Q18=29,28,Q18) -> 31 | Q18: =+DAY(DATE(YEAR(E18),MONTH(E18)+1,0)) -> 31 | R18: =SUM(DATEDIF(D18,E18,"D"),1) -> 365 | U18: =IF(OR(D18="",E18=""),"",INT(D18-E18+1)) -> -363
C21: CARE PAY
C22: ACTUAL CARE PAY FOR PERIOD | D22: FROM | E22: TO | F22: For DCPF Use Only
D23: 45748 | E23: 45777 | F23: =C23/30*5 -> 0 | I23: =IF(M23=N23,M23-N23,IF(M23<>N23,M23/N23)) -> 0 | J23: =IF((I23+L23)>1.04,DATEDIF(D23,E23,"M")-1,DATEDIF(D23,E23,"M")) -> 0 | L23: =IF(O23=P23,O23-P23,IF(O23<>P23,(P23-O23)/P23)) -> 1 | M23: =((DATE(YEAR(D23),MONTH(D23)+1,1)-1)-D23+1) -> 30 | N23: =+DAY(DATE(YEAR(D23),MONTH(D23)+1,0)) -> 30 | O23: =IF(Q23=29,((DATE(YEAR(E23),MONTH(E23)+1,1)-1)-E23)-1,((DATE(YEAR(E23),MONTH(E23)+1,1)-1)-E23)) -> 0 | P23: =IF(Q23=29,28,Q23) -> 30 | Q23: =+DAY(DATE(YEAR(E23),MONTH(E23)+1,0)) -> 30 | R23: =SUM(DATEDIF(D23,E23,"D"),1) -> 30 | U23: =IF(OR(D23="",E23=""),"",INT(D23-E23+1)) -> -28
D24: 45383 | E24: 45747 | F24: =C24 -> 0 | I24: =IF(M24=N24,M24-N24,IF(M24<>N24,M24/N24)) -> 0 | J24: =IF((I24+L24)>1.04,DATEDIF(D24,E24,"M")-1,DATEDIF(D24,E24,"M")) -> 11 | L24: =IF(O24=P24,O24-P24,IF(O24<>P24,(P24-O24)/P24)) -> 1 | M24: =((DATE(YEAR(D24),MONTH(D24)+1,1)-1)-D24+1) -> 30 | N24: =+DAY(DATE(YEAR(D24),MONTH(D24)+1,0)) -> 30 | O24: =IF(Q24=29,((DATE(YEAR(E24),MONTH(E24)+1,1)-1)-E24)-1,((DATE(YEAR(E24),MONTH(E24)+1,1)-1)-E24)) -> 0 | P24: =IF(Q24=29,28,Q24) -> 31 | Q24: =+DAY(DATE(YEAR(E24),MONTH(E24)+1,0)) -> 31 | R24: =SUM(DATEDIF(D24,E24,"D"),1) -> 365 | U24: =IF(OR(D24="",E24=""),"",INT(D24-E24+1)) -> -363
C27: CARE PAY
C28: ACTUAL CARE PAY FOR PERIOD | D28: FROM | E28: TO | F28: For DCPF Use Only
D29: 45383 | E29: 45412 | F29: =C29/30*5 -> 0 | I29: =IF(M29=N29,M29-N29,IF(M29<>N29,M29/N29)) -> 0 | J29: =IF((I29+L29)>1.04,DATEDIF(D29,E29,"M")-1,DATEDIF(D29,E29,"M")) -> 0 | L29: =IF(O29=P29,O29-P29,IF(O29<>P29,(P29-O29)/P29)) -> 1 | M29: =((DATE(YEAR(D29),MONTH(D29)+1,1)-1)-D29+1) -> 30 | N29: =+DAY(DATE(YEAR(D29),MONTH(D29)+1,0)) -> 30 | O29: =IF(Q29=29,((DATE(YEAR(E29),MONTH(E29)+1,1)-1)-E29)-1,((DATE(YEAR(E29),MONTH(E29)+1,1)-1)-E29)) -> 0 | P29: =IF(Q29=29,28,Q29) -> 30 | Q29: =+DAY(DATE(YEAR(E29),MONTH(E29)+1,0)) -> 30 | R29: =SUM(DATEDIF(D29,E29,"D"),1) -> 30 | U29: =IF(OR(D29="",E29=""),"",INT(D29-E29+1)) -> -28
D30: 45017 | E30: 45382 | F30: =C30 -> 0 | I30: =IF(M30=N30,M30-N30,IF(M30<>N30,M30/N30)) -> 0 | J30: =IF((I30+L30)>1.04,DATEDIF(D30,E30,"M")-1,DATEDIF(D30,E30,"M")) -> 11 | L30: =IF(O30=P30,O30-P30,IF(O30<>P30,(P30-O30)/P30)) -> 1 | M30: =((DATE(YEAR(D30),MONTH(D30)+1,1)-1)-D30+1) -> 30 | N30: =+DAY(DATE(YEAR(D30),MONTH(D30)+1,0)) -> 30 | O30: =IF(Q30=29,((DATE(YEAR(E30),MONTH(E30)+1,1)-1)-E30)-1,((DATE(YEAR(E30),MONTH(E30)+1,1)-1)-E30)) -> 0 | P30: =IF(Q30=29,28,Q30) -> 31 | Q30: =+DAY(DATE(YEAR(E30),MONTH(E30)+1,0)) -> 31 | R30: =SUM(DATEDIF(D30,E30,"D"),1) -> 366 | U30: =IF(OR(D30="",E30=""),"",INT(D30-E30+1)) -> -364
C33: CARE PAY
C34: ACTUAL CARE PAY FOR PERIOD | D34: FROM | E34: TO | F34: For DCPF Use Only
D35: 45017 | E35: 45046 | F35: =C35/30*5 -> 0 | I35: =IF(M35=N35,M35-N35,IF(M35<>N35,M35/N35)) -> 0 | J35: =IF((I35+L35)>1.04,DATEDIF(D35,E35,"M")-1,DATEDIF(D35,E35,"M")) -> 0 | L35: =IF(O35=P35,O35-P35,IF(O35<>P35,(P35-O35)/P35)) -> 1 | M35: =((DATE(YEAR(D35),MONTH(D35)+1,1)-1)-D35+1) -> 30 | N35: =+DAY(DATE(YEAR(D35),MONTH(D35)+1,0)) -> 30 | O35: =IF(Q35=29,((DATE(YEAR(E35),MONTH(E35)+1,1)-1)-E35)-1,((DATE(YEAR(E35),MONTH(E35)+1,1)-1)-E35)) -> 0 | P35: =IF(Q35=29,28,Q35) -> 30 | Q35: =+DAY(DATE(YEAR(E35),MONTH(E35)+1,0)) -> 30 | R35: =SUM(DATEDIF(D35,E35,"D"),1) -> 30 | U35: =IF(OR(D35="",E35=""),"",INT(D35-E35+1)) -> -28
D36: 44652 | E36: 45016 | F36: =C36 -> 0 | I36: =IF(M36=N36,M36-N36,IF(M36<>N36,M36/N36)) -> 0 | J36: =IF((I36+L36)>1.04,DATEDIF(D36,E36,"M")-1,DATEDIF(D36,E36,"M")) -> 11 | L36: =IF(O36=P36,O36-P36,IF(O36<>P36,(P36-O36)/P36)) -> 1 | M36: =((DATE(YEAR(D36),MONTH(D36)+1,1)-1)-D36+1) -> 30 | N36: =+DAY(DATE(YEAR(D36),MONTH(D36)+1,0)) -> 30 | O36: =IF(Q36=29,((DATE(YEAR(E36),MONTH(E36)+1,1)-1)-E36)-1,((DATE(YEAR(E36),MONTH(E36)+1,1)-1)-E36)) -> 0 | P36: =IF(Q36=29,28,Q36) -> 31 | Q36: =+DAY(DATE(YEAR(E36),MONTH(E36)+1,0)) -> 31 | R36: =SUM(DATEDIF(D36,E36,"D"),1) -> 365 | U36: =IF(OR(D36="",E36=""),"",INT(D36-E36+1)) -> -363
C39: Completed By: | E39: ='FINAL PAY'!E91:H91 -> 0
C41: Job Title: | E41: ='FINAL PAY'!E93:H93 -> 0
C43: Date: | E43: ='FINAL PAY'!E95:H95 -> 0

Sheet Guidance Notes
A1: Final Salary for Annual Allowance (AA) purposes
A3: When providing the Final Salary for the purpose of the Annual Allowance, please remember the following;
A5: The AA is calculated over the period 6 April to 5 April, so this is the period we need you to supply
A6: Regulation 10 does NOT apply in these circumstances, this can only apply at retirement.
A7: However, you must take into account the ‘Best of the Last 3 Years’ as normal when calculating the Final Salary.
A9: Please ensure you continue to take account of the following which will impact the FS;
A10: · Bonus payments – please remember to only include the amount of the bonus relevant to the Final Salary period
A11: · Car Scheme Salary Sacrifice – this type of SS scheme lowers the FS, but please apply the best of the last three years where applicable
A12: · Reduced pay due to sickness absences or contractual parental leave – please ensure there is no loss/reduction to the Final Salary for these circumstances
A14: IF YOU ARE IN DOUBT ABOUT THE CALCULATION OF THE FINAL SALARY, PLEASE DO NOT HESITATE TO CALL US
